BEGIN:VCALENDAR
VERSION:2.0
PRODID:Spatie calendar-links
BEGIN:VEVENT
UID:60e98795252513e8dc20b4952c5e4ecc
SUMMARY:Le Cid - Pathé Live
DTSTAMP:20260426T130000Z
DTSTART:20260426T130000Z
DTEND:20260426T151500Z
URL;VALUE=URI:https://www.pathelive.com/fr/evenements/theatre/le-cid/
BEGIN:VALARM
ACTION:DISPLAY
DESCRIPTION:Reminder: Le Cid - Pathé Live
TRIGGER:-PT15M
END:VALARM
END:VEVENT
END:VCALENDAR