BEGIN:VCALENDAR
VERSION:2.0
PRODID:Spatie calendar-links
BEGIN:VEVENT
UID:ce6f5bae5dd526d43ed0e05cab0eb7f8
SUMMARY:Hamlet - Pathé Live
DTSTAMP:20260607T130000Z
DTSTART:20260607T130000Z
DTEND:20260607T150500Z
URL;VALUE=URI:https://www.pathelive.com/fr/evenements/theatre/hamlet/
BEGIN:VALARM
ACTION:DISPLAY
DESCRIPTION:Reminder: Hamlet - Pathé Live
TRIGGER:-PT15M
END:VALARM
END:VEVENT
END:VCALENDAR