BEGIN:VCALENDAR
VERSION:2.0
PRODID:Spatie calendar-links
BEGIN:VEVENT
UID:998c0d7768e3579853dbf0c01a1c9ca4
SUMMARY:JOHNNY HALLYDAY\, LORADA TOUR - BERCY 1995 - Pathé Live
DTSTAMP:20260615
DTSTART:20260615
DURATION:P1D
URL;VALUE=URI:https://www.pathelive.com/fr/evenements/concert/johnny-hallyday-lorada-tour-bercy-1995/
BEGIN:VALARM
ACTION:DISPLAY
DESCRIPTION:Reminder: JOHNNY HALLYDAY\, LORADA TOUR - BERCY 1995 - Pathé Live
TRIGGER:-PT15M
END:VALARM
END:VEVENT
END:VCALENDAR